BEGIN:VCALENDAR
VERSION:2.0
PRODID:-//jEvents 2.0 for Joomla//EN
CALSCALE:GREGORIAN
METHOD:PUBLISH
BEGIN:VEVENT
UID:df4bed4dd10330559c2dee0ac85d7480
CATEGORIES:DEFAULT
CREATED:20161110T114315
SUMMARY:Collecte de sang 
DESCRIPTION:Quand : de 16h45 à 20h00\nLieu : école communale d'Olne\nInfo : Croix Rouge
   - Monsieur Delsem 087/26.70.42 Cette adresse e-mail est protégée contre l
 es robots spammeurs. Vous devez activer le JavaScript pour la visualiser.
	
 			document.getElementById('cloak05e3899cfdb47304c70fc8fa53f2ee61').innerHT
 ML = '';
				var prefix = '&amp;#109;a' + 'i&amp;#108;' + '&amp;#116;o';
		
 		var path = 'hr' + 'ef' + '=';
				var addy05e3899cfdb47304c70fc8fa53f2ee6
 1 = 'd&amp;#101;ls&amp;#101;m' + '&amp;#64;';
				addy05e3899cfdb47304c70fc
 8fa53f2ee61 = addy05e3899cfdb47304c70fc8fa53f2ee61 + 'h&amp;#111;tm&amp;#97
 ;&amp;#105;l' + '&amp;#46;' + 'c&amp;#111;m';
				var addy_text05e3899cfdb4
 7304c70fc8fa53f2ee61 = 'd&amp;#101;ls&amp;#101;m' + '&amp;#64;' + 'h&amp;#1
 11;tm&amp;#97;&amp;#105;l' + '&amp;#46;' + 'c&amp;#111;m';document.getEleme
 ntById('cloak05e3899cfdb47304c70fc8fa53f2ee61').innerHTML += '&lt;a ' + pat
 h + '\'' + prefix + ':' + addy05e3899cfdb47304c70fc8fa53f2ee61 + '\'&gt;'+a
 ddy_text05e3899cfdb47304c70fc8fa53f2ee61+'&lt;\/a&gt;';
		  (mailto:delsem@
 hotmail.coÃ¹)\n
X-ALT-DESC;FMTTYPE=text/html:<p>Quand : de 16h45 à 20h00</p><p>Lieu : école communale d'Olne</p><p>Info 
 : Croix Rouge  - Monsieur Delsem 087/26.70.42 <a href="mailto:delsem@hotmai
 l.coÃ¹"><span id="cloak05e3899cfdb47304c70fc8fa53f2ee61">Cette adresse e-ma
 il est protégée contre les robots spammeurs. Vous devez activer le JavaScri
 pt pour la visualiser.</span><script type='text/javascript'>
				document.g
 etElementById('cloak05e3899cfdb47304c70fc8fa53f2ee61').innerHTML = '';
				
 var prefix = '&#109;a' + 'i&#108;' + '&#116;o';
				var path = 'hr' + 'ef' 
 + '=';
				var addy05e3899cfdb47304c70fc8fa53f2ee61 = 'd&#101;ls&#101;m' + 
 '&#64;';
				addy05e3899cfdb47304c70fc8fa53f2ee61 = addy05e3899cfdb47304c70
 fc8fa53f2ee61 + 'h&#111;tm&#97;&#105;l' + '&#46;' + 'c&#111;m';
				var add
 y_text05e3899cfdb47304c70fc8fa53f2ee61 = 'd&#101;ls&#101;m' + '&#64;' + 'h&
 #111;tm&#97;&#105;l' + '&#46;' + 'c&#111;m';document.getElementById('cloak0
 5e3899cfdb47304c70fc8fa53f2ee61').innerHTML += '<a ' + path + '\'' + prefix
  + ':' + addy05e3899cfdb47304c70fc8fa53f2ee61 + '\'>'+addy_text05e3899cfdb4
 7304c70fc8fa53f2ee61+'<\/a>';
		</script> </a></p>
DTSTAMP:20260424T225107
DTSTART;VALUE=DATE:20170120
DTEND;VALUE=DATE:20170121
SEQUENCE:0
TRANSP:OPAQUE
END:VEVENT
END:VCALENDAR